BEGIN:VCALENDAR
VERSION:2.0
PRODID:-//Naravna lepota Sevilla - ECPv6.15.20//NONSGML v1.0//EN
CALSCALE:GREGORIAN
METHOD:PUBLISH
X-WR-CALNAME:Naravna lepota Sevilla
X-ORIGINAL-URL:https://naravnalepotasevilla.net
X-WR-CALDESC:Dogodki za Naravna lepota Sevilla
REFRESH-INTERVAL;VALUE=DURATION:PT1H
X-Robots-Tag:noindex
X-PUBLISHED-TTL:PT1H
BEGIN:VTIMEZONE
TZID:Europe/Paris
BEGIN:DAYLIGHT
TZOFFSETFROM:+0100
TZOFFSETTO:+0200
TZNAME:CEST
DTSTART:20230326T010000
END:DAYLIGHT
BEGIN:STANDARD
TZOFFSETFROM:+0200
TZOFFSETTO:+0100
TZNAME:CET
DTSTART:20231029T010000
END:STANDARD
BEGIN:DAYLIGHT
TZOFFSETFROM:+0100
TZOFFSETTO:+0200
TZNAME:CEST
DTSTART:20240331T010000
END:DAYLIGHT
BEGIN:STANDARD
TZOFFSETFROM:+0200
TZOFFSETTO:+0100
TZNAME:CET
DTSTART:20241027T010000
END:STANDARD
BEGIN:DAYLIGHT
TZOFFSETFROM:+0100
TZOFFSETTO:+0200
TZNAME:CEST
DTSTART:20250330T010000
END:DAYLIGHT
BEGIN:STANDARD
TZOFFSETFROM:+0200
TZOFFSETTO:+0100
TZNAME:CET
DTSTART:20251026T010000
END:STANDARD
END:VTIMEZONE
BEGIN:VEVENT
DTSTART;TZID=Europe/Paris:20240127T083000
DTEND;TZID=Europe/Paris:20240127T130000
DTSTAMP:20260425T132858
CREATED:20220221T145050Z
LAST-MODIFIED:20240115T160306Z
UID:4003-1706344200-1706360400@naravnalepotasevilla.net
SUMMARY:24. Ezoterični festival v Žireh
DESCRIPTION:Že 24.-ič se bomo družili na Ezoteričnem festivalu v Sevilla centru. Neustrašni in potrpežljivi smo na svoji poti in skupaj zmoremo več in še boljše. Tokratna tematika bo povezana s svetimi mesti oziroma stičišči. Stičišče nastane tam \, kjer je odsev ” tako spodaj\, kot zgoraj.” \nVabljeni v soboto\, 27. januarja od 8.30h pa tja do 13h v Sevilla center\, kjer vam ne bo dolgčas. Kakor vedno\, bodo na voljo unikatni\, naravni\, lokalni in prav posebni razstavljalci\, s katerimi boste lahko poklepetali\, si izbrali kakšen izdelek in s tem podprli lokalno\, domače in unikatno. \nPROGRAM: \n\nzačetek: ob 8.30 uri – ogled stojnic\n9.15h uvodni pozdrav\, kratka predstavitev razstavljalcev.\n9.20 SILVO MOČNIK z naslovom Kdo je Ivánu postavil pentagram?  Sv. Iván je cerkvica svetega Janeza Krstnika na robu Šebreljske planote na cerkljanskem\, tik nad jamo Divje babe\, ki je poznana po izjemni arheološki najdbi – 60.000 let stari neandertalčevi piščali.\nIzjemna pa je tudi zgodovina omenjene cerkvice ter njena vpetost v širši kultni prostor\, ki so ga z valovi pokristjanjevanja zasedle cerkve nove\, krščanske vere.\nLjudsko izročilo tako priča o starodavnem sončnem svetišču\, v tej luči pa je zanimiv tudi pomenljiv napis nad oltarjem “Sv. Janes KRESNIK”.\nPrav Kresnik pa je v naši stari\, domači veri povezan s poletnim solsticijem.\nKaj pa ima s tem pentagram\, peterokraka zvezda\n10.20 h premor\, vprašanja in ogled stojnic\n10.45h predavanje z naslovom Energijske linije in pentagrami Humskega polotoka z Alešem Homovcem. Kje potekajo energijske linije in seveda čemu…to je pogosto vprašanje za današnjo civilizacijo. Zakaj se o tem toliko molči\, kot bi bilo prepovedano? Odkrijte z nami pomembna mesta okrog nas\, ki se prebujajo skupaj z našo zavestjo. \nVprašanja\, ogledi stojnic\, druženje\n\nRAZSTAVLJALCI\, ki so že znani: \nPrijavite se lahko do zasedenosti mest. \n\nMihela Strlič – Janža d.o.o. ( unikatni nakit iz kristalov\, čipk\, tiskane tunike\, majice..)\nAnda Ovsec – Logatec ( dišeče blazinice iz zelišč )\nSevilla\, energija\, zdravje in lepota – naravni izdelki za nego.\nSonja Vavken – Herba Slovenica\, naravni izdelki\nAnja Gaber – izdelki iz blaga\nMaja Terglavčnik – Naravni izdelki Neskončen. si\nRomana Gašpirc – pletenine\nNovi val – prehranska dopolnila\nIvan Bohinc – energijski izdelki\, obeski\, slike.\n\nPrispevek za obiskovalce za celoten program je 5 eur. \nVabljeni v našo družbo\, prijave na moj kontakt. \nIrma\, Silvo in Aleš
URL:https://naravnalepotasevilla.net/event/21-ezotericni-festival-v-zireh/
LOCATION:Sevilla center\, Strojarska ulica 16\, Žiri\, Žiri\, 4226\, Slovenia
CATEGORIES:Druženje
ATTACH;FMTTYPE=image/jpeg:https://naravnalepotasevilla.net/wp-content/uploads/2022/02/24.-ezotericni.jpg
ORGANIZER;CN="Sevilla%2C Irma Dolinar":MAILTO:naravnalepotasevilla@gmail.com
END:VEVENT
END:VCALENDAR