BEGIN:VCALENDAR
VERSION:2.0
PRODID:-//Naravna lepota Sevilla - ECPv6.15.20//NONSGML v1.0//EN
CALSCALE:GREGORIAN
METHOD:PUBLISH
X-WR-CALNAME:Naravna lepota Sevilla
X-ORIGINAL-URL:https://naravnalepotasevilla.net
X-WR-CALDESC:Dogodki za Naravna lepota Sevilla
REFRESH-INTERVAL;VALUE=DURATION:PT1H
X-Robots-Tag:noindex
X-PUBLISHED-TTL:PT1H
BEGIN:VTIMEZONE
TZID:Europe/Paris
BEGIN:DAYLIGHT
TZOFFSETFROM:+0100
TZOFFSETTO:+0200
TZNAME:CEST
DTSTART:20240331T010000
END:DAYLIGHT
BEGIN:STANDARD
TZOFFSETFROM:+0200
TZOFFSETTO:+0100
TZNAME:CET
DTSTART:20241027T010000
END:STANDARD
BEGIN:DAYLIGHT
TZOFFSETFROM:+0100
TZOFFSETTO:+0200
TZNAME:CEST
DTSTART:20250330T010000
END:DAYLIGHT
BEGIN:STANDARD
TZOFFSETFROM:+0200
TZOFFSETTO:+0100
TZNAME:CET
DTSTART:20251026T010000
END:STANDARD
BEGIN:DAYLIGHT
TZOFFSETFROM:+0100
TZOFFSETTO:+0200
TZNAME:CEST
DTSTART:20260329T010000
END:DAYLIGHT
BEGIN:STANDARD
TZOFFSETFROM:+0200
TZOFFSETTO:+0100
TZNAME:CET
DTSTART:20261025T010000
END:STANDARD
END:VTIMEZONE
BEGIN:VEVENT
DTSTART;VALUE=DATE:20251019
DTEND;VALUE=DATE:20251020
DTSTAMP:20260424T062112
CREATED:20250828T085303Z
LAST-MODIFIED:20250828T085304Z
UID:8448-1760832000-1760918399@naravnalepotasevilla.net
SUMMARY:Enodnevni izlet po Megalitih Žusma
DESCRIPTION:19. OKTOBER\, ob 9h\, ŠTART V LOKI PRI ŽUSMU.\nIz Žirov štartamo ob 7 uri izpred Zadružnega Doma\, imam 4 prosta mesta\, lahko pa se peljete s svojim avtomobilom\, in poberete še koga. Potujemo lahko skupaj.\nOdkritje megalitov na Žusmu\nMegalite na Žusmu je skoraj po naključju odkrila Andreja Križan Lipnik. Ta je obiskovala Žusem in se sprehajala po poteh in ob njih občudovala velike kamne. Šele kasneje\, ko je prebrala knjigo patra dr. Karla Gržana\, je začela prepoznavati\, da ti kamni niso del večjih kamnitih gmot\, da so postavljeni v nekem redu\, pogosto tako\, da se lahko sprehodiš med njimi. Za pomoč se je obrnila na patra Gržana in ta je potrdil\, da so to megaliti\, ki so postavljeni v ozvezdju Kačenosca in so prazgodovinsko svetišče. Po odkritju so sledile raziskave in iskanje vseh megalitov na območju. Raziskovalci\, skupina štirih\, je opravila meritve energij\, potrdili so\, da še danes večina megalitov opravlja svoje poslanstvo – čistijo\, zdravijo\, dajejo zaščito in pomagajo uravnavati notranje duševne procese. \nVeč na bom povedala in nas vodila kar sama\, Andreja Križan Lipnik. \nS sabo imejte dobro obutev\, obleko glede na vreme in malico. Po poti nazaj se lahko ustavimo kje na pozno kosilo ( po dogovoru ). \nTrajanje: od 9h do 14h \nPrispevek za organizacijo\, vodenje in prevoz: 30 eur. \nČe greste s svojim avtomobilom\, 24 eur. \nPrijave na moj kontakt do zasedenosti mest.  \n 
URL:https://naravnalepotasevilla.net/event/enodnevni-izlet-po-megalitih-zusma/
CATEGORIES:Druženje
ATTACH;FMTTYPE=image/jpeg:https://naravnalepotasevilla.net/wp-content/uploads/2025/08/l_942819_1.jpg
END:VEVENT
END:VCALENDAR