BEGIN:VCALENDAR
VERSION:2.0
PRODID:-//Naravna lepota Sevilla - ECPv6.15.20//NONSGML v1.0//EN
CALSCALE:GREGORIAN
METHOD:PUBLISH
X-WR-CALNAME:Naravna lepota Sevilla
X-ORIGINAL-URL:https://naravnalepotasevilla.net
X-WR-CALDESC:Dogodki za Naravna lepota Sevilla
REFRESH-INTERVAL;VALUE=DURATION:PT1H
X-Robots-Tag:noindex
X-PUBLISHED-TTL:PT1H
BEGIN:VTIMEZONE
TZID:Europe/Paris
BEGIN:DAYLIGHT
TZOFFSETFROM:+0100
TZOFFSETTO:+0200
TZNAME:CEST
DTSTART:20240331T010000
END:DAYLIGHT
BEGIN:STANDARD
TZOFFSETFROM:+0200
TZOFFSETTO:+0100
TZNAME:CET
DTSTART:20241027T010000
END:STANDARD
BEGIN:DAYLIGHT
TZOFFSETFROM:+0100
TZOFFSETTO:+0200
TZNAME:CEST
DTSTART:20250330T010000
END:DAYLIGHT
BEGIN:STANDARD
TZOFFSETFROM:+0200
TZOFFSETTO:+0100
TZNAME:CET
DTSTART:20251026T010000
END:STANDARD
BEGIN:DAYLIGHT
TZOFFSETFROM:+0100
TZOFFSETTO:+0200
TZNAME:CEST
DTSTART:20260329T010000
END:DAYLIGHT
BEGIN:STANDARD
TZOFFSETFROM:+0200
TZOFFSETTO:+0100
TZNAME:CET
DTSTART:20261025T010000
END:STANDARD
END:VTIMEZONE
BEGIN:VEVENT
DTSTART;TZID=Europe/Paris:20251211T180000
DTEND;TZID=Europe/Paris:20251211T200000
DTSTAMP:20260424T032946
CREATED:20251128T170550Z
LAST-MODIFIED:20251128T170623Z
UID:8916-1765476000-1765483200@naravnalepotasevilla.net
SUMMARY:Človek je prav posebno bitje\, večer s predavateljico ga. Meto Vrhunc
DESCRIPTION:Vabimo vas na prijeten pogovorni večer z ga. Meto Vrhunc\, \nv četrtek\, 11. december\, ob 18 uri\, v Sevilla centru\, Strojarska ulica 16\, Žiri \nna temo: Človek je bitje z dušo in duhom. Pri prehranjevanju\, ki hrani celega človeka\, naj bi vedeli\, kaj človeka prehranjuje\, razen v fizičnem smislu in smislu vitalnih energij\, tudi v razsežnostih\, ki so človekova najvišja vrednota. \nKdo je Meta? \n\n\nMeta Vrhunc je slovenska ekološka kmetovalka in aktivistka\, povezana z gibanje biodinamičnega kmetovanja. \n\n\nJe ena izmed ustanoviteljic in predsednica društva Društvo za biološko-dinamično gospodarjenje AJDA Vrzdenec. \n\n\nPrav tako je predsednica Združenje za zdravo Slovenijo — organizacije\, ki se zavzema za zdrav življenjski slog\, ekološko pridelavo hrane in ozaveščanje o zdravju in okolju. \n\n\nKaj Meta počne: \n\n\nMeta je pionirka biodinamične metode v Sloveniji — že pred približno 30 leti je začela ozaveščati o pomembnosti biodinamičnega kmetovanja. \n\n\nSkozi njeno delo se je razvil celoten sistem društev biodinamičnega kmetovanja po Sloveniji; \n\n\nSvoje znanje deli preko predavanj\, člankov in izobraževanj — s tem poskuša ozavestiti ljudi o pomenu zdrave hrane\, naravnega kmetovanja in harmoničnega odnosa človeka z naravo. \n\n\nPoudarja pomen samooskrbe in opozarja pred negativnimi vplivi pesticidov\, aditivov in genetsko modificirane pridelave na zdravje ljudi in okolje. \n\n\nNjen vpliv in vrednote: \n\n\nMeta Vrhunc si prizadeva za širjenje zavesti\, da hrana ni le “snov”\, temveč nosi energijo — in da je način pridelave hrane ključen za zdravje tako ljudi kot planeta. \n\n\nZ njenim delom je postavila temelje biodinamike v Sloveniji\, kar je vplivalo na razvoj trajnostnega\, ekološkega in naravovarstvenega kmetovanja po državi. \n\n\nVabljeni v našo družbo\, vstop prost. \nNa voljo vam bodo tudi moji naravni izdelki Sevilla\, po decembrski\, nižji ceni. \n  \n 
URL:https://naravnalepotasevilla.net/event/clovek-je-prav-posebno-bitja-s-predavateljico-ga-meto-vrhunc/
CATEGORIES:Druženje
ATTACH;FMTTYPE=image/jpeg:https://naravnalepotasevilla.net/wp-content/uploads/2025/11/META.jpg
END:VEVENT
END:VCALENDAR