BEGIN:VCALENDAR
VERSION:2.0
PRODID:-//Naravna lepota Sevilla - ECPv6.15.20//NONSGML v1.0//EN
CALSCALE:GREGORIAN
METHOD:PUBLISH
X-ORIGINAL-URL:https://naravnalepotasevilla.net
X-WR-CALDESC:Dogodki za Naravna lepota Sevilla
REFRESH-INTERVAL;VALUE=DURATION:PT1H
X-Robots-Tag:noindex
X-PUBLISHED-TTL:PT1H
BEGIN:VTIMEZONE
TZID:Europe/Paris
BEGIN:DAYLIGHT
TZOFFSETFROM:+0100
TZOFFSETTO:+0200
TZNAME:CEST
DTSTART:20230326T010000
END:DAYLIGHT
BEGIN:STANDARD
TZOFFSETFROM:+0200
TZOFFSETTO:+0100
TZNAME:CET
DTSTART:20231029T010000
END:STANDARD
BEGIN:DAYLIGHT
TZOFFSETFROM:+0100
TZOFFSETTO:+0200
TZNAME:CEST
DTSTART:20240331T010000
END:DAYLIGHT
BEGIN:STANDARD
TZOFFSETFROM:+0200
TZOFFSETTO:+0100
TZNAME:CET
DTSTART:20241027T010000
END:STANDARD
BEGIN:DAYLIGHT
TZOFFSETFROM:+0100
TZOFFSETTO:+0200
TZNAME:CEST
DTSTART:20250330T010000
END:DAYLIGHT
BEGIN:STANDARD
TZOFFSETFROM:+0200
TZOFFSETTO:+0100
TZNAME:CET
DTSTART:20251026T010000
END:STANDARD
END:VTIMEZONE
BEGIN:VEVENT
DTSTART;TZID=Europe/Paris:20240909T140000
DTEND;TZID=Europe/Paris:20240909T160000
DTSTAMP:20260425T032226
CREATED:20210221T181507Z
LAST-MODIFIED:20240826T160935Z
UID:2742-1725890400-1725897600@naravnalepotasevilla.net
SUMMARY:Korekcija in namestitev atlasa
DESCRIPTION:Atlas je prvo vratno vretence\, ki vpliva na dotok krvi v glavo\, hipofizo\, možganski in obrazni del lobanje\, možgane\, notranje in srednje uho ter simpatično živčevje. Nepravilnosti lahko izvirajo že od takrat\, ko smo še bili v maminem trebuhu ali pa so posledica udarcev in močnih sunkov v glavo ali vrat.\nVsi\, ki ste že bili deležni namestitve atlasa\, vabljeni\, po dogovoru z g. Dušanom Strnad\, ki bo namestitev izvajal\, na brezplačen kontrolni pregled. Prav tako tisti\, ki vas zanima v kakšni pozicije je vaš atlas ali želite namestiti svoj atlas v optimalno pozicijo\, s plačilom v zneslu 200 eur\, kar se šteje kot doživljenjska kontrola in članarina.\nPrijave za nove udeležence na moj kontakt irma.dolinar@gmail.com.
URL:https://naravnalepotasevilla.net/event/korekcija-in-namestitev-atlasa/
LOCATION:Strojarska ulica 16\, Žiri\, Strojarska ulica 16\, Žiri
CATEGORIES:Druženje
ATTACH;FMTTYPE=image/jpeg:https://naravnalepotasevilla.net/wp-content/uploads/2021/02/ATLAS.jpg
ORGANIZER;CN="Sevilla%2C Irma Dolinar":MAILTO:naravnalepotasevilla@gmail.com
END:VEVENT
END:VCALENDAR