BEGIN:VCALENDAR
VERSION:2.0
PRODID:-//Naravna lepota Sevilla - ECPv6.15.20//NONSGML v1.0//EN
CALSCALE:GREGORIAN
METHOD:PUBLISH
X-ORIGINAL-URL:https://naravnalepotasevilla.net
X-WR-CALDESC:Dogodki za Naravna lepota Sevilla
REFRESH-INTERVAL;VALUE=DURATION:PT1H
X-Robots-Tag:noindex
X-PUBLISHED-TTL:PT1H
BEGIN:VTIMEZONE
TZID:Europe/Paris
BEGIN:DAYLIGHT
TZOFFSETFROM:+0100
TZOFFSETTO:+0200
TZNAME:CEST
DTSTART:20240331T010000
END:DAYLIGHT
BEGIN:STANDARD
TZOFFSETFROM:+0200
TZOFFSETTO:+0100
TZNAME:CET
DTSTART:20241027T010000
END:STANDARD
BEGIN:DAYLIGHT
TZOFFSETFROM:+0100
TZOFFSETTO:+0200
TZNAME:CEST
DTSTART:20250330T010000
END:DAYLIGHT
BEGIN:STANDARD
TZOFFSETFROM:+0200
TZOFFSETTO:+0100
TZNAME:CET
DTSTART:20251026T010000
END:STANDARD
BEGIN:DAYLIGHT
TZOFFSETFROM:+0100
TZOFFSETTO:+0200
TZNAME:CEST
DTSTART:20260329T010000
END:DAYLIGHT
BEGIN:STANDARD
TZOFFSETFROM:+0200
TZOFFSETTO:+0100
TZNAME:CET
DTSTART:20261025T010000
END:STANDARD
END:VTIMEZONE
BEGIN:VEVENT
DTSTART;VALUE=DATE:20250704
DTEND;VALUE=DATE:20250705
DTSTAMP:20260424T121349
CREATED:20250307T113101Z
LAST-MODIFIED:20250611T105810Z
UID:7632-1751587200-1751673599@naravnalepotasevilla.net
SUMMARY:Spoznavaj SEBE - delavnica v naravi
DESCRIPTION:4. julij bo zopet čas\, da se družimo. \nVabim te na delavnico v naravi\, na dobrih energijskih mestih\, kjer se bomo učili: \n\nspoznavati sebe\nsvoje zaznave\nobčutke\ndobre energije in kaj z njimi početi\nkako se naše telo odzove na določene frekvence\nsodelovanje z dobrimi energijami\nmeditacija\nvpogled v Orakeljske karte.\n\nŠtartamo ob 8 uri izpred Sevilla centra\, Strojarska ulica 16.  Z avti se odpeljemo v smeri proti Rovtam\, kjer jih parkiramo in nadaljujemo peš. Gremo skozi vasico Ravne\, do kamnite mize. Tam bomo imeli odlični “poligon” za spoznavanje sebe\, svojih potencialov\, energij\, prisotnosti nevidnega in še kaj. Ne pozabite na nihala\, rozete ali kakšne druge radiestezijske pripomočke. \nPo daljšem postanku se odpravimo peš naprej mimo Marjetinega doma do Dol. Spustili se bomo v prijetno hladno dolino ob reki Črni. Zopet bomo uporabili svoje sposobnosti\,  znanje in tudi pripomočke za merjenje vodnih izvirov.  Imeli bomo krajši postanek pri slapu in nato še parkrat prečkali reko. \nHoje je približno 3 ure. Imejte dobro in zračno obutev\, palice\, če jih uporabljate\, vodo in malo malice. \nZa zaključek vas povabim v Sevillo na prigrizek in obnovo meritev in dogodivščin. \nPredznanje ni potrebno\, če pa imate radiestezijsko znanje\, nihalo\, rozete\, jih nujno vzemite s sabo. \nPrispevek za celoten voden dan je 30 eur. \nPrijave sprejemam do zasedenosti mest. \nO naši kamniti mizi si lahko preberete tudi moj prispevek v Blogu. In tudi opravljene meritve g. dr. Semirja Osmanagicha. \nKamnita miza v Ravnah pri Žireh pridobiva svojo zgodbo \n \nVeselim se spet naših dogodivščin. \n  \n 
URL:https://naravnalepotasevilla.net/event/spoznavaj-sebe-delavnica-v-naravi/
CATEGORIES:Druženje
ATTACH;FMTTYPE=image/jpeg:https://naravnalepotasevilla.net/wp-content/uploads/2022/07/IMG_20200422_173316-scaled.jpg
END:VEVENT
END:VCALENDAR