BEGIN:VCALENDAR
VERSION:2.0
PRODID:-//Naravna lepota Sevilla - ECPv6.15.20//NONSGML v1.0//EN
CALSCALE:GREGORIAN
METHOD:PUBLISH
X-ORIGINAL-URL:https://naravnalepotasevilla.net
X-WR-CALDESC:Dogodki za Naravna lepota Sevilla
REFRESH-INTERVAL;VALUE=DURATION:PT1H
X-Robots-Tag:noindex
X-PUBLISHED-TTL:PT1H
BEGIN:VTIMEZONE
TZID:Europe/Paris
BEGIN:DAYLIGHT
TZOFFSETFROM:+0100
TZOFFSETTO:+0200
TZNAME:CEST
DTSTART:20250330T010000
END:DAYLIGHT
BEGIN:STANDARD
TZOFFSETFROM:+0200
TZOFFSETTO:+0100
TZNAME:CET
DTSTART:20251026T010000
END:STANDARD
BEGIN:DAYLIGHT
TZOFFSETFROM:+0100
TZOFFSETTO:+0200
TZNAME:CEST
DTSTART:20260329T010000
END:DAYLIGHT
BEGIN:STANDARD
TZOFFSETFROM:+0200
TZOFFSETTO:+0100
TZNAME:CET
DTSTART:20261025T010000
END:STANDARD
BEGIN:DAYLIGHT
TZOFFSETFROM:+0100
TZOFFSETTO:+0200
TZNAME:CEST
DTSTART:20270328T010000
END:DAYLIGHT
BEGIN:STANDARD
TZOFFSETFROM:+0200
TZOFFSETTO:+0100
TZNAME:CET
DTSTART:20271031T010000
END:STANDARD
END:VTIMEZONE
BEGIN:VEVENT
DTSTART;VALUE=DATE:20260227
DTEND;VALUE=DATE:20260302
DTSTAMP:20260424T003710
CREATED:20230903T124709Z
LAST-MODIFIED:20260122T160506Z
UID:5912-1772150400-1772409599@naravnalepotasevilla.net
SUMMARY:Megalitska civilizacija Istre - 3 dnevni izlet
DESCRIPTION:Naši predniki so nam pustili veliko… \nMočne energijske točke v ozvezdju Oriona obstajajo tudi v Istri. Spoznavali jih bomo skozi čutenje in videnje\, ter opazovali mistično simboliko\, ki so nam jo zapustile stare in inteligentne civilizacije – istrski pentagram \n \nPROGRAM: \nZbor v petek ob 16 uri\, v Vižinadi. Ogledamo si samo mestno jedro\, se zapeljemo do Pazina zvečer pa se odpravimo skoraj do Poreča\, kjer 2 prespimo.  Sledi spoznavanje\, druženje in predavanje na tematiko Megaliti sveta in zapuščine starih civilizacij. \nSOBOTA: \nPo zajtrku se odpravimo na raziskovanje Picugov\, treh gričev\, ki stojijo enako kot je Orionov pas. Obiščemo Monkodonjo\, Sveto Foško in Svetivinčenat\, ker si tudi privoščimo večerjo. \n \nNEDELJA: \nOb 8 uri zajtrk\, nato se peš odpravimo na megalitski krog Mali Sv. Anđeo\, kjer je postavljen megalitski kamniti krog\, ki je služil kot astronomski koledar. Vzeli si bomo trenutke dobrih energij in se jim prepustili v čutenju. \nObiščemo še zadnji grič Orionovega pasu\, Veliko Mordelo. Vsi trije griči nosijo ime Mordela in ležijo na območju Valkarinskega polja.  Naše raziskovanje in druženje zaključimo  v zvezdarnici\, v Višnjanu. \nCena: 225 eur\, kamor je všteta namestitev za 2 noči z zajtrkom\, vodenje\, organizacija in predavanje. Prevoz organiziran do zapolnitve mest\, lahko pa se peljete s svojim avtomobilom in poberete še koga. Soba so za dve osebi\, če želite biti sami\, je doplačilo 10 eur/noč. \nLahko pa najamemo tudi kombi za 8 + voznik\, vendar se strošek izleta podraži za cca 40 eur. \nOdhod:  \n\n27.2. do 1.3. 2026\n\nObiskali bomo vse energijske točke Istrskega pentagrama. \n \nPrijave na moj kontakt: irma.dolinar@gmail.com \n  \n 
URL:https://naravnalepotasevilla.net/event/pot-po-megalitskih-civilizacijah-istre/
LOCATION:Istra\, Ul. Stancija Ciprijan 1\, Poreč
CATEGORIES:Druženje
ATTACH;FMTTYPE=image/jpeg:https://naravnalepotasevilla.net/wp-content/uploads/2023/09/IMG_20200221_092656-scaled.jpg
ORGANIZER;CN="Sevilla%2C Irma Dolinar":MAILTO:naravnalepotasevilla@gmail.com
END:VEVENT
END:VCALENDAR