BEGIN:VCALENDAR
VERSION:2.0
PRODID:-//Naravna lepota Sevilla - ECPv6.15.20//NONSGML v1.0//EN
CALSCALE:GREGORIAN
METHOD:PUBLISH
X-ORIGINAL-URL:https://naravnalepotasevilla.net
X-WR-CALDESC:Dogodki za Naravna lepota Sevilla
REFRESH-INTERVAL;VALUE=DURATION:PT1H
X-Robots-Tag:noindex
X-PUBLISHED-TTL:PT1H
BEGIN:VTIMEZONE
TZID:Europe/Paris
BEGIN:DAYLIGHT
TZOFFSETFROM:+0100
TZOFFSETTO:+0200
TZNAME:CEST
DTSTART:20250330T010000
END:DAYLIGHT
BEGIN:STANDARD
TZOFFSETFROM:+0200
TZOFFSETTO:+0100
TZNAME:CET
DTSTART:20251026T010000
END:STANDARD
BEGIN:DAYLIGHT
TZOFFSETFROM:+0100
TZOFFSETTO:+0200
TZNAME:CEST
DTSTART:20260329T010000
END:DAYLIGHT
BEGIN:STANDARD
TZOFFSETFROM:+0200
TZOFFSETTO:+0100
TZNAME:CET
DTSTART:20261025T010000
END:STANDARD
BEGIN:DAYLIGHT
TZOFFSETFROM:+0100
TZOFFSETTO:+0200
TZNAME:CEST
DTSTART:20270328T010000
END:DAYLIGHT
BEGIN:STANDARD
TZOFFSETFROM:+0200
TZOFFSETTO:+0100
TZNAME:CET
DTSTART:20271031T010000
END:STANDARD
BEGIN:DAYLIGHT
TZOFFSETFROM:+0100
TZOFFSETTO:+0200
TZNAME:CEST
DTSTART:20280326T010000
END:DAYLIGHT
BEGIN:STANDARD
TZOFFSETFROM:+0200
TZOFFSETTO:+0100
TZNAME:CET
DTSTART:20281029T010000
END:STANDARD
END:VTIMEZONE
BEGIN:VEVENT
DTSTART;TZID=Europe/Paris:20260503T100000
DTEND;TZID=Europe/Paris:20260503T150000
DTSTAMP:20260423T195010
CREATED:20260118T160606Z
LAST-MODIFIED:20260317T082041Z
UID:9186-1777802400-1777820400@naravnalepotasevilla.net
SUMMARY:Po poti skrivnosti\, z Borisom Čokom\, 2. del
DESCRIPTION:Vabljeni v nedeljo z nami po poti skrivnosti in presenečenj. Naš vodnik bo Boris Čok\, ki nas bo ob 10 uri popeljal na ogled ogromnih kamnitih osamelcev (naravni megaliti) na površini  cca 6 hektarjev\,  nekateri imajo tudi mitološko izročilo in imena.  Obiskali bomo tudi prazgodovinski krog\,  po želji pa nam bo  dal na razpolago še različne zanimive destinacije! \nČas trajanja ogledov cca 4 ure.  Priporočam dobro pohodno obutev in malico iz nahrbtnika.\nDobimo se ob 10 uri\, na parkirišču trgovine Tuš\, Lokev.\nPrispevek za vodenje je 20 eur. Plačilo se izvede ob prihodu.\n\nPrijave na moj kontakt.
URL:https://naravnalepotasevilla.net/event/po-poti-skrivnosti-z-borisom-cokom/
CATEGORIES:Druženje
ATTACH;FMTTYPE=image/avif:https://naravnalepotasevilla.net/wp-content/uploads/2026/01/Boris.avif
END:VEVENT
BEGIN:VEVENT
DTSTART;TZID=Europe/Paris:20260626T050000
DTEND;TZID=Europe/Paris:20260629T220000
DTSTAMP:20260423T195010
CREATED:20220426T133836Z
LAST-MODIFIED:20260408T075122Z
UID:4322-1782450000-1782770400@naravnalepotasevilla.net
SUMMARY:Obisk BOSANSKIH PIRAMID
DESCRIPTION:V letu 2026 se bomo do poletja kar nekajkrat odpravili na duhovno in sproščujoče raziskovanje Bosanskih piramid\, in sicer:\n\n.\n18 do 20 april – zasedeno.\n26 do 29 junij – še 3 prosta mesta.\n10 do 13 julij\nČe je skupina vsaj 6 do 7 ljudi\, si lahko sami izberete svoj termin. \n\n\n\nPrijave in informacije na moj kontakt: irma.dolinar@gmail.com ali 040 836 500. Organizacija potovanja: Turistična agencija JAZON-6 (veljajo splošni pogoji TA JAZON-6) \n \n  \nPROGRAM \n\n Dan \n\nOdhod iz Žirov ob 5. uri in po poti pobiramo ostale udeležence. Po prihodu v Visoko\, namestitev v  apartmajih in malica.  Po kratkem oddihu si bomo ogledali podzemni labirint tunelov Ravne z akreditiranim vodičem. V labirintih so izmerili številne energetske fenomene. Schumannova resonanca 7\,83 Hz je enaka osnovni zemeljski resonanci. Je vibracija\, ki najbolj odgovarja vsem živim bitjem. Človekovo telo se sprosti\, poveča se razvoj inteligence\, uma in duševna zavest. Koncentracija negativnih ionov\, ki čistijo atmosfero od bakterij in virusov\, je nekaj desetin višja od povprečne\, kar razloži blagodejni učinek na naše telo. Visoka prisotnost negativnih ionov povečujejo tudi prisotnost kisika v krvi in možganih. Celice se lahko ponovno obnovijo in prevzamejo svojo funkcijo. nato pa si bomo ogledali še turistično arheološki park Ravne 2\, v čudoviti dolini z energijskim parkom\, platformami in izredno zdravilno vodo. \nV parku Ravne 2 se bomo sproščali in naredili usklajevalno meditacijo ter si izmenjali vtise po meditaciji. Zvečer prijetno skupno druženje – večerja v restavraciji. \n\n Dan \n\nOb 9 uri uri se bomo odpravili najprej na jutranjo energetsko regeneracijo v Tunele Ravne\, nato pa na ogled Piramide Zmaja Vmes si bomo privoščili malico  ( sirnice\, zeljanice\, burek…. ) Ogledali si bomo tudi Park Ravne\, se po njem sprehodili in videli marsikaj zanimivega ( labirinti\, Pogačnikove kozmograme\, spirale… ) \nNato se bomo odpravili na še na največjo Piramido Sonca\, kjer se bomo ob sončnem zahodu predajali čudovitim energijam. Sledi večerja v prijetni restavraciji. \nPiramide so zgrajene z namenom\, da iz vesolja pritegnejo energijo\, jo v svoji notranjosti preko labirintov predelajo in nato širijo v okolico pozitivno energijo. To so največji energetski stroji na planetu\, ki dobrodejno učinkujejo na boljše počutje ljudi. Te energije služijo našemu zdravju\, ohranjanju zdravja celic in regeneraciji organizma. \n\n Dan\n\nOb 9 uri se odpravimo najprej za meditacijo v Tunele Ravne\, nato pa  na ogled Tumulusa. \nV popoldanskih urah se bomo odpravili na Piramido Meseca\, kjer bomo po uri lahke hoje imeli kosilo v idiličnem etno stilu  Po zaključku uradnega dela\, možnost degustacije in nakupa odličnih domačih žganj\, se bomo počasi odpravili v mesto Visoko. \n4\, Dan \nPo zajtrku se spakiramo in se odpravimo še enkrat v Tunele Ravne na čutenje negativnih ionov\, da nam “zdržijo” vsaj še nekaj dni pri prihodu domov. Obiščemo lahko mestno jedro\, si privoščimo obrok\, ob 12 uri pa štartamo proti domu. V Ljubljani bomo okrog 8 do 9 ure\, če na meji ne bo čakalne kolone. \n5 dan. ( po želji in izbiri ) \nCena izleta je 354 eur ( 5 dni 394 eur  )  v ceno je všteto popolnoma vse od bivanja\, prevoza\, organizacije\, najem vozila\, vodenje\, vodiči\, razen prehrane. \nPrevoz zagotovljen : osebni avtomobil ali kombi\, odvisno od števila prijav. Največ pa nas je 8 udeležencev\, tako da so skupine majhne. \nIrma Dolinar \nMail: Irma.dolinar@gmail.com\, \nTel: 040 836 500
URL:https://naravnalepotasevilla.net/event/popotovanje-po-bosanskih-piramidah/
CATEGORIES:Druženje
ATTACH;FMTTYPE=image/jpeg:https://naravnalepotasevilla.net/wp-content/uploads/2022/04/298619426_1956685507858730_7818152677949425_n.jpg
ORGANIZER;CN="Sevilla%2C Irma Dolinar":MAILTO:naravnalepotasevilla@gmail.com
END:VEVENT
BEGIN:VEVENT
DTSTART;TZID=Europe/Paris:20260910T080000
DTEND;TZID=Europe/Paris:20260914T170000
DTSTAMP:20260423T195010
CREATED:20260224T135502Z
LAST-MODIFIED:20260224T181902Z
UID:9348-1789027200-1789405200@naravnalepotasevilla.net
SUMMARY:Oddih na Dugem otoku
DESCRIPTION:Veliko let že hodim tja\, predvsem v juniju\, ko tam nabiram smilj za svoje naravne izdelke. Otok ima svoje posebnosti. Tako v naravi\, kot v lepoti morja\, lahko bi rekla\, da je tam energija tako prijetna\, da pozabiš na vse.  In to bi rada delila z vami… \nZ Mihelo sva se odločili\, da vas leto popeljeva na veliko razvajanje v naravo\, kjer bomo veliko hodili\, se kopali na različnih mestih\, raziskovali kristale in okušali morske dobrote. Vmes pa se bomo veliko pogovarjali\, odkrivali skrivnosti in se posvečali sebi\, tako znotraj kot tudi zunaj. Poskrbeli bomo tudi za fizično telo\, ga očistili v čistem morju in se mu posvečali skozi nežno vadbo in meditacijo. \nPotujemo od 10. do 14. septembra 2026 in sicer s kombijem. Skupina bo torej majhna in povezana. Nastanjeni bomo v morskem mestecu Sali\, kjer bomo imeli na voljo več apartmajev\, večinoma za 2 osebi.  Za hrano bomo poskrbeli sami. \nVsak dan se bomo odpravili na sončni vzhod\, ki ga bomo počastili z svojim dihom skozi prostor. Privoščili si bomo kavico\, zajtk in nato se odpravimo na pohod. Vsak dan na en konec otoka. Sledil bo počitek in nato popoldansko kopanje. Večer po želji. Vmes bomo imeli meditacije\, odkrivanje skrivnosti kart in pogovori. \nNe bo naporno\, bo pa sproščujoče in navdihujoče. \nPrispevek za celotno potovanje je 480 eur\, v kar je všteto vse  ( nastanitev v apartmaju za 2 osebe\, prevoz s kombijem\, cestnine\, trajekt\, gorivo\, vstopnina v narodni park Telaščica ) razen prehrane. \nPrijave sprejemava do zasedenosti mest\, torej 6 prijav. \nIrma in Mihela \n  \n 
URL:https://naravnalepotasevilla.net/event/oddih-na-dugem-otoku/
CATEGORIES:Druženje
ATTACH;FMTTYPE=image/jpeg:https://naravnalepotasevilla.net/wp-content/uploads/2026/02/c82f5005-4756-4242-b3fc-a62d0c4ff350.jpg
END:VEVENT
BEGIN:VEVENT
DTSTART;TZID=Europe/Paris:20270415T080000
DTEND;TZID=Europe/Paris:20270420T170000
DTSTAMP:20260423T195010
CREATED:20230408T174738Z
LAST-MODIFIED:20260205T175325Z
UID:5565-1807776000-1808240400@naravnalepotasevilla.net
SUMMARY:MAKEDONIJA - ogled starodavnih krajev in tehnologije
DESCRIPTION:1 dan \nŠtart iz Žirov\, preko Ljubljane\, Zagreb\, Beograd in naprej v Severno Makedonijo\, na Kokino. Tam na dan jesenskega enakonočja počakamo sončni zahod.  Kokino je tretji največji megalitski observatorij in je tudi upoštevano kot sveto mesto. \nZahtevano arheoastronomsko najdišče ima skupno površino približno 5000 kvadratnih metrov in je sestavljeno iz dveh ploščadi z višinsko razliko 19 metrov. Trditev\, da najdišče predstavlja astronomski observatorij\, sta podala Stankovski in Gjore Cenev leta 2002. Po tej razlagi najdišče vključuje posebne kamnite oznake\, ki se uporabljajo za sledenje gibanja Sonca in Lune na vzhodnem obzorju. Observatorij je uporabljal metodo stacionarnega opazovanja\, pri čemer je označeval lego Sonca ob zimskem in poletnem solsticiju ter enakonočju. \nNa spodnji ploščadi so v vrsti postavljeni štirje kamniti sedeži ali »prestoli«. Po Cenevu kamniti blok z oznako na zgornji ploščadi označuje smer sončnega vzhoda na poletni solsticij\, gledano z enega od sedežev. \nOdpeljemo se v Kumanovo\, kjer prespimo. \nZjutraj se odpravimo na ogled Kratova. Kratovo je izjemno zanimivo mestece\, ki leži na kraterju. Poznano je po rudniku zlata\, kjer so še vidni ostanki le tega. Kratovo se nahaja v severovzhodni regiji Republike Makedonije in se nahaja v jugozahodnem vznožju Osogovskih gora v dolini Kratovske reke\, leve pritoke Krive Reka. Predpostavlja se\, da je bila sedanja lega Kratova davno mesto imenovano Kratiskara. Pod imenom Kratis ali Koriton je omenjeno v bizantinskem obdobju in sedanje ime je pridobilo s svojo lokacijo na kraterju ugaslega vulkana. Reliefni pogoji v prostoru so omogočili\, da se v Kratovo razvije poseben arhitekturni-gradbeni pristop\, ki je značilen za Kratovsko arhitekturo. \nOgledamo si tudi Zletovo\, ki je ravno tako rudarsko mesto. Nastalo je po odprtju rudnika svinca in cinka po drugi svetovni vojni. Po osamosvojitvi  Republike Makedonije se je rudnik Zletovo soočal s tolikšnimi težavami\, da od leta 1992 ne deluje več. Enaka usoda je doletela Tovarno akumulatorjev (delovala je v sklopu rudnika). Že nekaj let ponovno obratuje rudnik\, ki ga zdaj upravlja družba Indo Minerali i Metali. \nNato pa se odpravimo še v  Staro Novogoričane na ogled Cocevega kamna.  Ta prostor je jamsko najdišče vulkanskega izvora na vrhu hriba v bližini mesta Kratovo.  Predmeti (kostni fosili)\, odkriti v bližini jame\, kažejo na prisotnost človeka že od paleolitika dalje. Avtorji se strinjajo\, da je mesto služilo kot zbirna točka za žrtvene obrede iz neolitika \, med bronasto dobo od antike do srednjega veka\, kar je razjasnjeno z obilico črepinj lončenine\, kamnitih (kremenovih) orodij in kostnih fragmentov\, izkopanih v okolici. Več jam in skalnih zavetij je okrašenih z rdečimi figurativnimi umetninami. Primerjava s podobnimi najdišči v Bolgariji in Italiji nakazuje\, da so poslikave res prazgodovinske. \nRazpravlja se še vedno o tem\, da je bil Cocev kamen uporabljen tudi kot (astronomski) observatorij.  Povsod so vidni posegi na kamniti površini v obliki stopnic\, bazenov\, prestolov\, eno veliko jamo pa so popolnoma preuredili in ji odtrgali velik del stene\, da je nastala ograjena ploščad\, ki gleda v bližnjo okolico. hrib\, na katerem so veliki naravni kamni . Te spremembe so služile obrednim namenom med darovanjem božanstvom plodnosti. \n \n  \n\ndan\n\nObiščemo Bylazor0.  Nahaja se v bližini vasi Knezhje\, ki je del občine Sveti Nikoe v Severni Makedoniji . Bylazora je eno najpomembnejših arheoloških najdišč v Makedoniji in je zdaj prepuščeno na milost in nemilost elementom.  Starodavno mesto je imelo kraljevo palačo\, javni trg\, tempelj\, upravne zgradbe in visoke stebre\, ki so nosili fino okrašene strehe.  Bilo je glavno mesto Paeoncev in zadnja trdnjava makedonskih kraljev\, ki sega vsaj v 5. stoletje pr. n. št.\, Sedaj je prepuščeno razpadu in propadanju zaradi birokratskega slabega upravljanja in zamud. \nPo zajtrku si ogledamo arheološko najdišče Stobi. Stobi ali Stoboi je bilo starodavno mesto Peonije\,  ki ga je kasneje osvojilo Kraljestvo Makedonija in končno postalo glavno mesto rimske province Makedonije Sulataris.  Je v bližini Gradskega v Severni Makedoniji  in ob glavni cesti\, ki je vodila od Domave do Egejskega morja in je po mnenju mnogih najbolj znano arheološko najdišče v Severni Makedoniji. Stobi je bil zgrajen tam\, kjer se reka Erigon (reka Crna reka) združi z Axiosom  ( Vardar )\, zaradi česar je strateško pomemben kot vojaško središče in trgovine. \n \nZvečer se odpeljemo do Prilepa\,  vmes se pa se še ustavimo na kopanju\, če bo le vreme in ugodna prilika. V Prilepu prespimo. \n \n  \n  \n  \n  \n4 dan \nRaziskujemo Prilep\, si ogledamo zanimive kamnite strukture in si privoščimo njihove dobrote. \n \n5 dan \nPot proti domu\, kosilo. \nCena  dnevnega potovanja je 672 eur\, kamor je všteto popolnoma vse ( prevoz\, gorivo\, cestnine\, dva obroka dnevno\, prenočišča\, vodenje\, organizacija\, vodič po Makedoniji\, razen pijače in vmesnih prigrizkov. \nSobe so za dve osebi. \nPrijave sprejemam do zasedenosti mest na irma.dolinar@gmail.com \nPridržujem si pravico do spremembe programa v primeru slabšega vremena. \n  \n 
URL:https://naravnalepotasevilla.net/event/makedonija-obisk-megalitskih-krajev/
CATEGORIES:Druženje
ATTACH;FMTTYPE=image/jpeg:https://naravnalepotasevilla.net/wp-content/uploads/2023/04/71646252_484467692395447_1225505094699581440_n-2.jpg
ORGANIZER;CN="Sevilla%2C Irma Dolinar":MAILTO:naravnalepotasevilla@gmail.com
END:VEVENT
END:VCALENDAR